BEGIN:VCALENDAR
VERSION:2.0
METHOD:PUBLISH
PRODID:-//List Fixer//NONSGML v1.0//EN
BEGIN:VEVENT
UID:event_00001189
DTSTAMP:20210624T203000Z
DTSTART:20210624T203000Z
DTEND:20210624T220000Z
SUMMARY:For the People Act Day of Action
LOCATION:Hosted On Zoom
DESCRIPTION:This week, the Senate will be voting on the For th
 e People Act. Join us for a day of action! We will
  be reaching out to our fellow Mainers via phone c
 alls and texts to ask for their support of the For
  the People Act. The day of action will begin with
  a brief training on Zoom and conclude with a debr
 ief.\n\nVisit event page: https://www.lwvme.org/ci
 vicrm/event/info?id=1189&reset=1
END:VEVENT
END:VCALENDAR
