BEGIN:VCALENDAR
VERSION:2.0
METHOD:PUBLISH
PRODID:-//List Fixer//NONSGML v1.0//EN
BEGIN:VEVENT
UID:event_00001194
DTSTAMP:20210715T203000Z
DTSTART:20210715T203000Z
DTEND:20210715T220000Z
SUMMARY:Textbank for the For the People Act
LOCATION:Hosted On Zoom
DESCRIPTION:Join us as we reach out to fellow Mainers to ask f
 or their support of the For the People Act! Each t
 extbank will begin with a brief training on Zoom a
 nd end with a quick debrief. Help us make history 
 by passing historic democracy reform that helps al
 l Americans!\n\nVisit event page: https://www.lwvm
 e.org/civicrm/event/info?id=1194&reset=1
END:VEVENT
END:VCALENDAR
