BEGIN:VCALENDAR
VERSION:2.0
METHOD:PUBLISH
PRODID:-//List Fixer//NONSGML v1.0//EN
BEGIN:VEVENT
UID:event_00001203
DTSTAMP:20210726T183000Z
DTSTART:20210726T183000Z
DTEND:20210726T193000Z
SUMMARY:Reform Movement Meeting with Senator Susan Collins
LOCATION:Hosted On Zoom
DESCRIPTION:Maine’s Reform Jewish congregations, as part of 
 the national Religious Action Center’s Freedom T
 o Vote Campaign, has set up Zoom meetings with Mai
 ne Senators Collins and Angus King to urge them to
  support the For The People Act and the John Lewis
  Voting Rights Act.\n\nVisit event page: https://w
 ww.lwvme.org/civicrm/event/info?id=1203&reset=1
END:VEVENT
END:VCALENDAR
