BEGIN:VCALENDAR
VERSION:2.0
METHOD:PUBLISH
PRODID:-//List Fixer//NONSGML v1.0//EN
BEGIN:VEVENT
UID:event_00001213
DTSTAMP:20210909T210000Z
DTSTART:20210909T210000Z
DTEND:20210909T223000Z
SUMMARY:LWV of the Portland Area Fall Kickoff
LOCATION:
DESCRIPTION:Join us on Zoom for a fun and informative preview 
 of the busy season ahead.\n\nVisit event page: htt
 ps://www.lwvme.org/civicrm/event/info?id=1213&rese
 t=1
END:VEVENT
END:VCALENDAR
