BEGIN:VCALENDAR
VERSION:2.0
METHOD:PUBLISH
PRODID:-//List Fixer//NONSGML v1.0//EN
BEGIN:VEVENT
UID:event_00001216
DTSTAMP:20211013T220000Z
DTSTART:20211013T220000Z
DTEND:20211013T230000Z
SUMMARY:Understanding Dawnland Today: Land Acknowledgement
LOCATION:
DESCRIPTION:The League of Women Voters of Maine presents a ser
 ies to promote a better understanding of the past 
 and present of the Wabanaki indigenous people.\n\n
 Visit event page: https://www.lwvme.org/civicrm/ev
 ent/info?id=1216&reset=1
END:VEVENT
END:VCALENDAR
