BEGIN:VCALENDAR
VERSION:2.0
METHOD:PUBLISH
PRODID:-//List Fixer//NONSGML v1.0//EN
BEGIN:VEVENT
UID:event_00001219
DTSTAMP:20211003T153000Z
DTSTART:20211003T153000Z
DTEND:20211003T163000Z
SUMMARY:Democracy Forum — The Two-party System and the Future of Our Democracy
LOCATION:WERU 89.9 FM, Blue Hill ME
DESCRIPTION:This month, we'll talk about the history and the f
 uture of the two major parties and whether the two
  major parties are now so polarized that our const
 itutional system is undermined, streaming at wmpg.
 org.\n\nVisit event page: https://www.lwvme.org/ci
 vicrm/event/info?id=1219&reset=1
END:VEVENT
END:VCALENDAR
