BEGIN:VCALENDAR
VERSION:2.0
METHOD:PUBLISH
PRODID:-//List Fixer//NONSGML v1.0//EN
BEGIN:VEVENT
UID:event_00001221
DTSTAMP:20211215T223000Z
DTSTART:20211215T223000Z
DTEND:20211216T000000Z
SUMMARY:How to Talk about the National Popular Vote
LOCATION:Hosted On Zoom
DESCRIPTION:Passionate about the National Popular Vote and loo
 king for ways to explain it to others? Join an inf
 ormative training that walks through the case for 
 the National Popular Vote and addresses some commo
 n misconceptions on the topic.\n\nVisit event page
 : https://www.lwvme.org/civicrm/event/info?id=1221
 &reset=1
END:VEVENT
END:VCALENDAR
