BEGIN:VCALENDAR
VERSION:2.0
METHOD:PUBLISH
PRODID:-//List Fixer//NONSGML v1.0//EN
BEGIN:VEVENT
UID:event_00001230
DTSTAMP:20210917T150000Z
DTSTART:20210917T150000Z
DTEND:20210917T190000Z
SUMMARY:Collaborative Art For The People
LOCATION:Congress Square Park, Portland ME
DESCRIPTION:Drop by Congress Square Park to join our collabora
 tive art project to urge the Senate to "Finish the
  Job" by passing the For the People Act.\n\nVisit 
 event page: https://www.lwvme.org/civicrm/event/in
 fo?id=1230&reset=1
END:VEVENT
END:VCALENDAR
