BEGIN:VCALENDAR
VERSION:2.0
METHOD:PUBLISH
PRODID:-//List Fixer//NONSGML v1.0//EN
BEGIN:VEVENT
UID:event_00001232
DTSTAMP:20211103T210000Z
DTSTART:20211103T210000Z
DTEND:20211103T230000Z
SUMMARY:LWV Downeast Book Group NEW DATE
LOCATION:Hosted On Zoom
DESCRIPTION:Join us for our monthly book club. For October, we
 're reading "Breaking the Two-Party Doom Loop: Th
 e Case for Multiparty Democracy in America," by Le
 e Drutman, March, 2020.\n\nVisit event page: https
 ://www.lwvme.org/civicrm/event/info?id=1232&reset=
 1
END:VEVENT
END:VCALENDAR
