BEGIN:VCALENDAR
VERSION:2.0
METHOD:PUBLISH
PRODID:-//List Fixer//NONSGML v1.0//EN
BEGIN:VEVENT
UID:event_00001233
DTSTAMP:20211026T220000Z
DTSTART:20211026T220000Z
DTEND:20211026T230000Z
SUMMARY:Democracy Maine Action Update
LOCATION:Hosted On Zoom
DESCRIPTION:We're gearing up for the fall and the next part of
  the 130th Legislative session. Join our growing c
 ommunity and hear from League experts on the issue
 s (money in politics, voting rights, and democracy
  reform) we're tackling next. This week, we will d
 iscuss two related issues: redistricting and propo
 rtional representation.\n\nVisit event page: https
 ://www.lwvme.org/civicrm/event/info?id=1233&reset=
 1
END:VEVENT
END:VCALENDAR
