BEGIN:VCALENDAR
VERSION:2.0
METHOD:PUBLISH
PRODID:-//List Fixer//NONSGML v1.0//EN
BEGIN:VEVENT
UID:event_00001282
DTSTAMP:20211208T220000Z
DTSTART:20211208T220000Z
DTEND:20211209T000000Z
SUMMARY:LWV Downeast Book Group
LOCATION:Hosted On Zoom
DESCRIPTION:Join us for our monthly book club. For December we
 're reading "James Madison and the Struggle for t
 he Bill of Rights," by Richard Labunski, June, 200
 8.\n\nVisit event page: https://www.lwvme.org/civi
 crm/event/info?id=1282&reset=1
END:VEVENT
END:VCALENDAR
