BEGIN:VCALENDAR
VERSION:2.0
METHOD:PUBLISH
PRODID:-//List Fixer//NONSGML v1.0//EN
BEGIN:VEVENT
UID:event_00001307
DTSTAMP:20220614T213000Z
DTSTART:20220614T213000Z
DTEND:20220614T223000Z
SUMMARY:LWV-Bangor Book Group
LOCATION:Hosted On Zoom
DESCRIPTION:Join the Bangor League for a discussion of The Sou
 l of America: The Battle for Our Better Angels by 
 Jon Meacham.\n\nVisit event page: https://www.lwvm
 e.org/civicrm/event/info?id=1307&reset=1
END:VEVENT
END:VCALENDAR
