BEGIN:VCALENDAR
VERSION:2.0
METHOD:PUBLISH
PRODID:-//List Fixer//NONSGML v1.0//EN
BEGIN:VEVENT
UID:event_00001470
DTSTAMP:20230620T213000Z
DTSTART:20230620T213000Z
DTEND:20230620T230000Z
SUMMARY:LWV-Bangor Book Group
LOCATION:427 Main St, Bangor ME
DESCRIPTION:Join the Bangor League for a discussion of The Bet
 rayal: How Mitch McConnell and the Senate Republic
 ans Abandoned America by Ira Shapiro.\n\nVisit eve
 nt page: https://www.lwvme.org/civicrm/event/info?
 id=1470&reset=1
END:VEVENT
END:VCALENDAR
