BEGIN:VCALENDAR
VERSION:2.0
METHOD:PUBLISH
PRODID:-//List Fixer//NONSGML v1.0//EN
BEGIN:VEVENT
UID:event_00001595
DTSTAMP:20230120T210000Z
DTSTART:20230120T210000Z
DTEND:20230120T220000Z
SUMMARY:Democracy Forum — Comprehensive Planning: Why Bother?
LOCATION:
DESCRIPTION:“If you don’t know where you are going, you’
 ll end up someplace else.” – Yogi Berra   


 WERU 89.9 FM Blue Hill
Streaming at weru.org.\n\
 nVisit event page: https://www.lwvme.org/civicrm/e
 vent/info?id=1595&reset=1
END:VEVENT
END:VCALENDAR
