BEGIN:VCALENDAR
VERSION:2.0
METHOD:PUBLISH
PRODID:-//List Fixer//NONSGML v1.0//EN
BEGIN:VEVENT
UID:event_00001612
DTSTAMP:20230311T170000Z
DTSTART:20230311T170000Z
DTEND:20230311T183000Z
SUMMARY:LWV-Downeast: League Meeting
LOCATION:MOORE COMMUNITY CENTER, 125 State St, Ellsworth ME
DESCRIPTION:Meet our Legislators! We'll talk with our represen
 tatives about the 131st Legislature and the bills 
 they're working on.\n\nVisit event page: https://w
 ww.lwvme.org/civicrm/event/info?id=1612&reset=1
END:VEVENT
END:VCALENDAR
