BEGIN:VCALENDAR
VERSION:2.0
METHOD:PUBLISH
PRODID:-//List Fixer//NONSGML v1.0//EN
BEGIN:VEVENT
UID:event_00001655
DTSTAMP:20230430T180000Z
DTSTART:20230430T180000Z
DTEND:20230430T190000Z
SUMMARY:LWV-Bangor Sunday Walk
LOCATION:1048 State St, Bangor ME
DESCRIPTION:Join members of the Bangor League for a walk this 
 Sunday afternoon at Mt. Hope Cemetery!\n\nVisit ev
 ent page: https://www.lwvme.org/civicrm/event/info
 ?id=1655&reset=1
END:VEVENT
END:VCALENDAR
