BEGIN:VCALENDAR
VERSION:2.0
METHOD:PUBLISH
PRODID:-//List Fixer//NONSGML v1.0//EN
BEGIN:VEVENT
UID:event_00001681
DTSTAMP:20230927T210000Z
DTSTART:20230927T210000Z
DTEND:20230927T223000Z
SUMMARY:Downeast Book Group
LOCATION:Hosted On Zoom
DESCRIPTION:Join us for our monthly book group. October 1-7 is
  Banned Book Week. To put ourselves in the mood, w
 e will read books from the American Library Associ
 ation's list of Most Challenged Books of 2022.\n\n
 Visit event page: https://www.lwvme.org/civicrm/ev
 ent/info?id=1681&reset=1
END:VEVENT
END:VCALENDAR
