BEGIN:VCALENDAR
VERSION:2.0
METHOD:PUBLISH
PRODID:-//List Fixer//NONSGML v1.0//EN
BEGIN:VEVENT
UID:event_00001691
DTSTAMP:20230913T213000Z
DTSTART:20230913T213000Z
DTEND:20230913T233000Z
SUMMARY:Cheers for Volunteers! Volunteer Appreciation 🎉 and Engagement ⚡
LOCATION:EQUALITY COMMUNITY CENTER, 15 Casco St, Portland ME
DESCRIPTION:Get connected with folks who are passionate about 
 voting and informing their neighbors about importa
 nt election information.\n\nVisit event page: http
 s://www.lwvme.org/civicrm/event/info?id=1691&reset
 =1
END:VEVENT
END:VCALENDAR
