BEGIN:VCALENDAR
VERSION:2.0
METHOD:PUBLISH
PRODID:-//List Fixer//NONSGML v1.0//EN
BEGIN:VEVENT
UID:event_00001692
DTSTAMP:20230908T210000Z
DTSTART:20230908T210000Z
DTEND:20230909T000000Z
SUMMARY:Drinks for Democracy
LOCATION:
DESCRIPTION:Celebrate democracy with the League of Women Voter
 s of Maine!\n\nVisit event page: https://www.lwvme
 .org/civicrm/event/info?id=1692&reset=1
END:VEVENT
END:VCALENDAR
