BEGIN:VCALENDAR
VERSION:2.0
METHOD:PUBLISH
PRODID:-//List Fixer//NONSGML v1.0//EN
BEGIN:VEVENT
UID:event_00001698
DTSTAMP:20230930T160000Z
DTSTART:20230930T160000Z
DTEND:20230930T173000Z
SUMMARY:LWV-Downeast: Issue Forum Question 6
LOCATION:MOORE COMMUNITY CENTER, 125 State St, Ellsworth ME
DESCRIPTION:Donna Loring will join us to talk about Question 6
  on the November ballot, to restore Wabanaki treat
 y obligations to printed copies of the Maine Const
 itution. We'll briefly review the other questions,
  as well. Lunch will be available.\n\nVisit event 
 page: https://www.lwvme.org/civicrm/event/info?id=
 1698&reset=1
END:VEVENT
END:VCALENDAR
