BEGIN:VCALENDAR
VERSION:2.0
METHOD:PUBLISH
PRODID:-//List Fixer//NONSGML v1.0//EN
BEGIN:VEVENT
UID:event_00001701
DTSTAMP:20230928T220000Z
DTSTART:20230928T220000Z
DTEND:20230928T230000Z
SUMMARY:LWV-Portland Area Book Group
LOCATION:HOSTED ON ZOOM, 59 Oak Point Rd, Trenton ME
DESCRIPTION:Check out Cheap Speech, a book about how disinform
 ation poisons our politics — and how to cure it.
 \n\nVisit event page: https://www.lwvme.org/civicr
 m/event/info?id=1701&reset=1
END:VEVENT
END:VCALENDAR
