BEGIN:VCALENDAR
VERSION:2.0
METHOD:PUBLISH
PRODID:-//List Fixer//NONSGML v1.0//EN
BEGIN:VEVENT
UID:event_00001704
DTSTAMP:20230912T213000Z
DTSTART:20230912T213000Z
DTEND:20230912T230000Z
SUMMARY:LWV-Bangor Book Group
LOCATION:1110 Broadway, Bangor ME
DESCRIPTION:Join the Bangor League for a discussion of The Sup
 ermajority: How the Supreme Court Divided America 
 by Michael Waldman.\n\nVisit event page: https://w
 ww.lwvme.org/civicrm/event/info?id=1704&reset=1
END:VEVENT
END:VCALENDAR
