BEGIN:VCALENDAR
VERSION:2.0
METHOD:PUBLISH
PRODID:-//List Fixer//NONSGML v1.0//EN
BEGIN:VEVENT
UID:event_00001706
DTSTAMP:20231114T210000Z
DTSTART:20231114T210000Z
DTEND:20231114T223000Z
SUMMARY:LWV-Bangor Book Group
LOCATION:BANGOR PUBLIC LIBRARY, 145 Harlow St, Bangor ME
DESCRIPTION:Join the Bangor League for a discussion of Misbeli
 ef: What Makes Rational People Believe Irrational 
 Things by Dan Ariely.\n\nVisit event page: https:/
 /www.lwvme.org/civicrm/event/info?id=1706&reset=1
END:VEVENT
END:VCALENDAR
