BEGIN:VCALENDAR
VERSION:2.0
METHOD:PUBLISH
PRODID:-//List Fixer//NONSGML v1.0//EN
BEGIN:VEVENT
UID:event_00001712
DTSTAMP:20240514T200000Z
DTSTART:20240514T200000Z
DTEND:20240514T213000Z
SUMMARY:LWV-Bangor Book Group
LOCATION:BANGOR PUBLIC LIBRARY, 145 Harlow St, Bangor ME
DESCRIPTION:Join the Bangor League for a discussion of Spin Di
 ctators: The Changing Face of Tyranny in the 21st 
 Century by Sergei Guriev and Daniel Treisman.\n\nV
 isit event page: https://www.lwvme.org/civicrm/eve
 nt/info?id=1712&reset=1
END:VEVENT
END:VCALENDAR
