BEGIN:VCALENDAR
VERSION:2.0
METHOD:PUBLISH
PRODID:-//List Fixer//NONSGML v1.0//EN
BEGIN:VEVENT
UID:event_00001723
DTSTAMP:20230921T180000Z
DTSTART:20230921T180000Z
DTEND:20230921T193000Z
SUMMARY:Neighbor to Neighbor Training
LOCATION:HOSTED ON ZOOM, 59 Oak Point Rd, Trenton ME
DESCRIPTION:A virtual training for people who want to join our
  Neighbor to Neighbor door canvass this fall.\n\nV
 isit event page: https://www.lwvme.org/civicrm/eve
 nt/info?id=1723&reset=1
END:VEVENT
END:VCALENDAR
