BEGIN:VCALENDAR
VERSION:2.0
METHOD:PUBLISH
PRODID:-//List Fixer//NONSGML v1.0//EN
BEGIN:VEVENT
UID:event_00001733
DTSTAMP:20230903T180000Z
DTSTART:20230903T180000Z
DTEND:20230903T190000Z
SUMMARY:LWV-Bangor Sunday Walk
LOCATION:26 Front St, Bangor ME
DESCRIPTION:Join members of the Bangor League for a walk at th
 e Bangor Waterfront this Sunday afternoon!\n\nVisi
 t event page: https://www.lwvme.org/civicrm/event/
 info?id=1733&reset=1
END:VEVENT
END:VCALENDAR
