BEGIN:VCALENDAR
VERSION:2.0
METHOD:PUBLISH
PRODID:-//List Fixer//NONSGML v1.0//EN
BEGIN:VEVENT
UID:event_00001747
DTSTAMP:20231117T210000Z
DTSTART:20231117T210000Z
DTEND:20231117T220000Z
SUMMARY:Democracy Forum: What Happened on Election Day? — And What Does It Mean?
LOCATION:WERU 89.9 FM, Blue Hill ME
DESCRIPTION:"At the end of the day, it’s the people in a dem
 ocracy who have power, and we gotta act like it." 
 – Heather Cox Richardson, December 6, 2022

St
 reaming at weru.org\n\nVisit event page: https://
 www.lwvme.org/civicrm/event/info?id=1747&reset=1
END:VEVENT
END:VCALENDAR
