BEGIN:VCALENDAR
VERSION:2.0
METHOD:PUBLISH
PRODID:-//List Fixer//NONSGML v1.0//EN
BEGIN:VEVENT
UID:event_00001758
DTSTAMP:20231120T220000Z
DTSTART:20231120T220000Z
DTEND:20231120T230000Z
SUMMARY:Let's Talk About Digital Threats to Democracy | Techlash with Tom Wheeler
LOCATION:Hosted On Zoom
DESCRIPTION:Please note the time of this event per time zone:
 
5 p.m. EST // 4 p.m. CST // 3 p.m. MST // 2 p.m. 
 PST // 1 p.m. AKST\n\nVisit event page: https://ww
 w.lwvme.org/civicrm/event/info?id=1758&reset=1
END:VEVENT
END:VCALENDAR
