BEGIN:VCALENDAR
VERSION:2.0
METHOD:PUBLISH
PRODID:-//List Fixer//NONSGML v1.0//EN
BEGIN:VEVENT
UID:event_00001760
DTSTAMP:20231102T223000Z
DTSTART:20231102T223000Z
DTEND:20231103T003000Z
SUMMARY:Who's On My Ballot? Meet the Lewiston Candidates for Mayor, Council, and School Committee
LOCATION:BATES COLLEGE, 70 Campus Ave, Lewiston ME
DESCRIPTION:Do you know that there are 16 races on the Lewisto
 n municipal ballot?\n\nVisit event page: https://w
 ww.lwvme.org/civicrm/event/info?id=1760&reset=1
END:VEVENT
END:VCALENDAR
