BEGIN:VCALENDAR
VERSION:2.0
METHOD:PUBLISH
PRODID:-//List Fixer//NONSGML v1.0//EN
BEGIN:VEVENT
UID:event_00001761
DTSTAMP:20231105T190000Z
DTSTART:20231105T190000Z
DTEND:20231105T200000Z
SUMMARY:LWV-Bangor Sunday Walk
LOCATION:216 Fields Pond Rd, Holden ME
DESCRIPTION:Join members of the Bangor League for a walk at th
 e Fields Pond Audubon Center in Holden this Sunday
  afternoon!\n\nVisit event page: https://www.lwvme
 .org/civicrm/event/info?id=1761&reset=1
END:VEVENT
END:VCALENDAR
