BEGIN:VCALENDAR
VERSION:2.0
METHOD:PUBLISH
PRODID:-//List Fixer//NONSGML v1.0//EN
BEGIN:VEVENT
UID:event_00001764
DTSTAMP:20231119T190000Z
DTSTART:20231119T190000Z
DTEND:20231119T200000Z
SUMMARY:LWV-Bangor Sunday Walk
LOCATION:11 Mill St, Orono ME
DESCRIPTION:Join members of the Bangor League for a walk on th
 e Riverside Trail in Orono this Sunday afternoon!\
 n\nVisit event page: https://www.lwvme.org/civicrm
 /event/info?id=1764&reset=1
END:VEVENT
END:VCALENDAR
