BEGIN:VCALENDAR
VERSION:2.0
METHOD:PUBLISH
PRODID:-//List Fixer//NONSGML v1.0//EN
BEGIN:VEVENT
UID:event_00001765
DTSTAMP:20231112T190000Z
DTSTART:20231112T190000Z
DTEND:20231112T200000Z
SUMMARY:LWV-Bangor Sunday Walk
LOCATION:1048 State St, Bangor ME
DESCRIPTION:Join members of the Bangor League for a walk at th
 e Mt. Hope Cemetery this Sunday afternoon!\n\nVisi
 t event page: https://www.lwvme.org/civicrm/event/
 info?id=1765&reset=1
END:VEVENT
END:VCALENDAR
