BEGIN:VCALENDAR
VERSION:2.0
METHOD:PUBLISH
PRODID:-//List Fixer//NONSGML v1.0//EN
BEGIN:VEVENT
UID:event_00001774
DTSTAMP:20231126T180000Z
DTSTART:20231126T180000Z
DTEND:20231126T190000Z
SUMMARY:LWV-Bangor Sunday Walk (NEW TIME)
LOCATION:54 Tripp Dr, Bangor ME
DESCRIPTION:Join members of the Bangor League for a walk at th
 e Bangor City Forest this Sunday afternoon!\n\nVis
 it event page: https://www.lwvme.org/civicrm/event
 /info?id=1774&reset=1
END:VEVENT
END:VCALENDAR
