BEGIN:VCALENDAR
VERSION:2.0
METHOD:PUBLISH
PRODID:-//List Fixer//NONSGML v1.0//EN
BEGIN:VEVENT
UID:event_00001801
DTSTAMP:20240406T160000Z
DTSTART:20240406T160000Z
DTEND:20240406T180000Z
SUMMARY:LWV-Downeast: League Meeting
LOCATION:MOORE COMMUNITY CENTER, 125 State St, Ellsworth ME
DESCRIPTION:Local News and Democracy\n\nVisit event page: http
 s://www.lwvme.org/civicrm/event/info?id=1801&reset
 =1
END:VEVENT
END:VCALENDAR
