BEGIN:VCALENDAR
VERSION:2.0
METHOD:PUBLISH
PRODID:-//List Fixer//NONSGML v1.0//EN
BEGIN:VEVENT
UID:event_00001813
DTSTAMP:20240419T200000Z
DTSTART:20240419T200000Z
DTEND:20240419T210000Z
SUMMARY:Democracy Forum: Clean Elections 24 Years Later.  (Yes, itâ€™s been that long.)
LOCATION:WERU 89.9 FM, Blue Hill ME
DESCRIPTION:"... Nothing will fundamentally change until we so
 lve the problem of money in politics." ~ Arianna H
 uffington

WERU 89.9 FM Blue Hill
Streaming atÂ
  weru.org.\n\nVisit event page: https://www.lwvme.
 org/civicrm/event/info?id=1813&reset=1
END:VEVENT
END:VCALENDAR
