BEGIN:VCALENDAR
VERSION:2.0
METHOD:PUBLISH
PRODID:-//List Fixer//NONSGML v1.0//EN
BEGIN:VEVENT
UID:event_00001815
DTSTAMP:20240424T210000Z
DTSTART:20240424T210000Z
DTEND:20240424T223000Z
SUMMARY:Downeast Book Group
LOCATION:Hosted On Zoom
DESCRIPTION:The book for April is an audiobook. Who Killed Tru
 th:  A History of Evidence by Jill LePore.\n\nVisi
 t event page: https://www.lwvme.org/civicrm/event/
 info?id=1815&reset=1
END:VEVENT
END:VCALENDAR
